BEGIN:VCALENDAR
VERSION:2.0
PRODID:-//Ψυχιατρικό Νοσοκομείο Αττικής «Δρομοκαΐτειο» - ECPv6.15.20//NONSGML v1.0//EN
CALSCALE:GREGORIAN
METHOD:PUBLISH
X-ORIGINAL-URL:https://dromokaiteio.gov.gr
X-WR-CALDESC:Events for Ψυχιατρικό Νοσοκομείο Αττικής «Δρομοκαΐτειο»
REFRESH-INTERVAL;VALUE=DURATION:PT1H
X-Robots-Tag:noindex
X-PUBLISHED-TTL:PT1H
BEGIN:VTIMEZONE
TZID:Europe/Helsinki
BEGIN:DAYLIGHT
TZOFFSETFROM:+0200
TZOFFSETTO:+0300
TZNAME:EEST
DTSTART:20230326T010000
END:DAYLIGHT
BEGIN:STANDARD
TZOFFSETFROM:+0300
TZOFFSETTO:+0200
TZNAME:EET
DTSTART:20231029T010000
END:STANDARD
BEGIN:DAYLIGHT
TZOFFSETFROM:+0200
TZOFFSETTO:+0300
TZNAME:EEST
DTSTART:20240331T010000
END:DAYLIGHT
BEGIN:STANDARD
TZOFFSETFROM:+0300
TZOFFSETTO:+0200
TZNAME:EET
DTSTART:20241027T010000
END:STANDARD
BEGIN:DAYLIGHT
TZOFFSETFROM:+0200
TZOFFSETTO:+0300
TZNAME:EEST
DTSTART:20250330T010000
END:DAYLIGHT
BEGIN:STANDARD
TZOFFSETFROM:+0300
TZOFFSETTO:+0200
TZNAME:EET
DTSTART:20251026T010000
END:STANDARD
END:VTIMEZONE
BEGIN:VEVENT
DTSTART;VALUE=DATE:20241103
DTEND;VALUE=DATE:20241104
DTSTAMP:20260423T210404
CREATED:20240904T115824Z
LAST-MODIFIED:20241023T094041Z
UID:7766-1730592000-1730678399@dromokaiteio.gov.gr
SUMMARY:Εφημερεύει
DESCRIPTION:
URL:https://dromokaiteio.gov.gr/event/%ce%b5%cf%86%ce%b7%ce%bc%ce%b5%cf%81%ce%b5%cf%8d%ce%b5%ce%b9-387/
LOCATION:Ψ.Ν.Α. Δρομοκαΐτειο\, Ιερά Οδός 343\, Χαϊδάρι\, Αττικής\, 12461\, Greece
CATEGORIES:Εφημερίες
END:VEVENT
BEGIN:VEVENT
DTSTART;VALUE=DATE:20241106
DTEND;VALUE=DATE:20241107
DTSTAMP:20260423T210404
CREATED:20240904T115835Z
LAST-MODIFIED:20241023T094049Z
UID:7767-1730851200-1730937599@dromokaiteio.gov.gr
SUMMARY:Εφημερεύει
DESCRIPTION:
URL:https://dromokaiteio.gov.gr/event/%ce%b5%cf%86%ce%b7%ce%bc%ce%b5%cf%81%ce%b5%cf%8d%ce%b5%ce%b9-388/
LOCATION:Ψ.Ν.Α. Δρομοκαΐτειο\, Ιερά Οδός 343\, Χαϊδάρι\, Αττικής\, 12461\, Greece
CATEGORIES:Εφημερίες
END:VEVENT
BEGIN:VEVENT
DTSTART;VALUE=DATE:20241109
DTEND;VALUE=DATE:20241110
DTSTAMP:20260423T210404
CREATED:20240904T115841Z
LAST-MODIFIED:20241023T094102Z
UID:7768-1731110400-1731196799@dromokaiteio.gov.gr
SUMMARY:Εφημερεύει
DESCRIPTION:
URL:https://dromokaiteio.gov.gr/event/%ce%b5%cf%86%ce%b7%ce%bc%ce%b5%cf%81%ce%b5%cf%8d%ce%b5%ce%b9-389/
LOCATION:Ψ.Ν.Α. Δρομοκαΐτειο\, Ιερά Οδός 343\, Χαϊδάρι\, Αττικής\, 12461\, Greece
CATEGORIES:Εφημερίες
END:VEVENT
BEGIN:VEVENT
DTSTART;VALUE=DATE:20241112
DTEND;VALUE=DATE:20241113
DTSTAMP:20260423T210404
CREATED:20240904T115851Z
LAST-MODIFIED:20241023T094114Z
UID:7769-1731369600-1731455999@dromokaiteio.gov.gr
SUMMARY:Εφημερεύει
DESCRIPTION:
URL:https://dromokaiteio.gov.gr/event/%ce%b5%cf%86%ce%b7%ce%bc%ce%b5%cf%81%ce%b5%cf%8d%ce%b5%ce%b9-390/
LOCATION:Ψ.Ν.Α. Δρομοκαΐτειο\, Ιερά Οδός 343\, Χαϊδάρι\, Αττικής\, 12461\, Greece
CATEGORIES:Εφημερίες
END:VEVENT
BEGIN:VEVENT
DTSTART;VALUE=DATE:20241115
DTEND;VALUE=DATE:20241116
DTSTAMP:20260423T210404
CREATED:20240904T115852Z
LAST-MODIFIED:20241023T094120Z
UID:7770-1731628800-1731715199@dromokaiteio.gov.gr
SUMMARY:Εφημερεύει
DESCRIPTION:
URL:https://dromokaiteio.gov.gr/event/%ce%b5%cf%86%ce%b7%ce%bc%ce%b5%cf%81%ce%b5%cf%8d%ce%b5%ce%b9-391/
LOCATION:Ψ.Ν.Α. Δρομοκαΐτειο\, Ιερά Οδός 343\, Χαϊδάρι\, Αττικής\, 12461\, Greece
CATEGORIES:Εφημερίες
END:VEVENT
BEGIN:VEVENT
DTSTART;VALUE=DATE:20241119
DTEND;VALUE=DATE:20241120
DTSTAMP:20260423T210404
CREATED:20240904T115852Z
LAST-MODIFIED:20241023T094128Z
UID:7771-1731974400-1732060799@dromokaiteio.gov.gr
SUMMARY:Εφημερεύει
DESCRIPTION:
URL:https://dromokaiteio.gov.gr/event/%ce%b5%cf%86%ce%b7%ce%bc%ce%b5%cf%81%ce%b5%cf%8d%ce%b5%ce%b9-392/
LOCATION:Ψ.Ν.Α. Δρομοκαΐτειο\, Ιερά Οδός 343\, Χαϊδάρι\, Αττικής\, 12461\, Greece
CATEGORIES:Εφημερίες
END:VEVENT
BEGIN:VEVENT
DTSTART;VALUE=DATE:20241122
DTEND;VALUE=DATE:20241123
DTSTAMP:20260423T210404
CREATED:20240904T115854Z
LAST-MODIFIED:20241023T094141Z
UID:7772-1732233600-1732319999@dromokaiteio.gov.gr
SUMMARY:Εφημερεύει
DESCRIPTION:
URL:https://dromokaiteio.gov.gr/event/%ce%b5%cf%86%ce%b7%ce%bc%ce%b5%cf%81%ce%b5%cf%8d%ce%b5%ce%b9-393/
LOCATION:Ψ.Ν.Α. Δρομοκαΐτειο\, Ιερά Οδός 343\, Χαϊδάρι\, Αττικής\, 12461\, Greece
CATEGORIES:Εφημερίες
END:VEVENT
BEGIN:VEVENT
DTSTART;VALUE=DATE:20241125
DTEND;VALUE=DATE:20241126
DTSTAMP:20260423T210404
CREATED:20240904T115854Z
LAST-MODIFIED:20241023T094200Z
UID:7773-1732492800-1732579199@dromokaiteio.gov.gr
SUMMARY:Εφημερεύει
DESCRIPTION:
URL:https://dromokaiteio.gov.gr/event/%ce%b5%cf%86%ce%b7%ce%bc%ce%b5%cf%81%ce%b5%cf%8d%ce%b5%ce%b9-394/
LOCATION:Ψ.Ν.Α. Δρομοκαΐτειο\, Ιερά Οδός 343\, Χαϊδάρι\, Αττικής\, 12461\, Greece
CATEGORIES:Εφημερίες
END:VEVENT
BEGIN:VEVENT
DTSTART;VALUE=DATE:20241128
DTEND;VALUE=DATE:20241129
DTSTAMP:20260423T210404
CREATED:20240904T115854Z
LAST-MODIFIED:20241023T094158Z
UID:7774-1732752000-1732838399@dromokaiteio.gov.gr
SUMMARY:Εφημερεύει
DESCRIPTION:
URL:https://dromokaiteio.gov.gr/event/%ce%b5%cf%86%ce%b7%ce%bc%ce%b5%cf%81%ce%b5%cf%8d%ce%b5%ce%b9-395/
LOCATION:Ψ.Ν.Α. Δρομοκαΐτειο\, Ιερά Οδός 343\, Χαϊδάρι\, Αττικής\, 12461\, Greece
CATEGORIES:Εφημερίες
END:VEVENT
BEGIN:VEVENT
DTSTART;VALUE=DATE:20241128
DTEND;VALUE=DATE:20241129
DTSTAMP:20260423T210404
CREATED:20240904T115900Z
LAST-MODIFIED:20240904T115900Z
UID:7775-1732752000-1732838399@dromokaiteio.gov.gr
SUMMARY:Εφημερεύει
DESCRIPTION:
URL:https://dromokaiteio.gov.gr/event/%ce%b5%cf%86%ce%b7%ce%bc%ce%b5%cf%81%ce%b5%cf%8d%ce%b5%ce%b9-396/
LOCATION:Ψ.Ν.Α. Δρομοκαΐτειο\, Ιερά Οδός 343\, Χαϊδάρι\, Αττικής\, 12461\, Greece
CATEGORIES:Εφημερίες
END:VEVENT
END:VCALENDAR