BEGIN:VCALENDAR
VERSION:2.0
PRODID:-//Ψυχιατρικό Νοσοκομείο Αττικής «Δρομοκαΐτειο» - ECPv6.15.20//NONSGML v1.0//EN
CALSCALE:GREGORIAN
METHOD:PUBLISH
X-ORIGINAL-URL:https://dromokaiteio.gov.gr
X-WR-CALDESC:Events for Ψυχιατρικό Νοσοκομείο Αττικής «Δρομοκαΐτειο»
REFRESH-INTERVAL;VALUE=DURATION:PT1H
X-Robots-Tag:noindex
X-PUBLISHED-TTL:PT1H
BEGIN:VTIMEZONE
TZID:Europe/Helsinki
BEGIN:DAYLIGHT
TZOFFSETFROM:+0200
TZOFFSETTO:+0300
TZNAME:EEST
DTSTART:20230326T010000
END:DAYLIGHT
BEGIN:STANDARD
TZOFFSETFROM:+0300
TZOFFSETTO:+0200
TZNAME:EET
DTSTART:20231029T010000
END:STANDARD
BEGIN:DAYLIGHT
TZOFFSETFROM:+0200
TZOFFSETTO:+0300
TZNAME:EEST
DTSTART:20240331T010000
END:DAYLIGHT
BEGIN:STANDARD
TZOFFSETFROM:+0300
TZOFFSETTO:+0200
TZNAME:EET
DTSTART:20241027T010000
END:STANDARD
BEGIN:DAYLIGHT
TZOFFSETFROM:+0200
TZOFFSETTO:+0300
TZNAME:EEST
DTSTART:20250330T010000
END:DAYLIGHT
BEGIN:STANDARD
TZOFFSETFROM:+0300
TZOFFSETTO:+0200
TZNAME:EET
DTSTART:20251026T010000
END:STANDARD
END:VTIMEZONE
BEGIN:VEVENT
DTSTART;VALUE=DATE:20241002
DTEND;VALUE=DATE:20241003
DTSTAMP:20260423T180341
CREATED:20240904T115815Z
LAST-MODIFIED:20241002T061605Z
UID:7757-1727827200-1727913599@dromokaiteio.gov.gr
SUMMARY:Εφημερεύει
DESCRIPTION:
URL:https://dromokaiteio.gov.gr/event/%ce%b5%cf%86%ce%b7%ce%bc%ce%b5%cf%81%ce%b5%cf%8d%ce%b5%ce%b9-378/
LOCATION:Ψ.Ν.Α. Δρομοκαΐτειο\, Ιερά Οδός 343\, Χαϊδάρι\, Αττικής\, 12461\, Greece
CATEGORIES:Εφημερίες
END:VEVENT
BEGIN:VEVENT
DTSTART;VALUE=DATE:20241005
DTEND;VALUE=DATE:20241006
DTSTAMP:20260423T180341
CREATED:20240904T115815Z
LAST-MODIFIED:20241002T061643Z
UID:7758-1728086400-1728172799@dromokaiteio.gov.gr
SUMMARY:Εφημερεύει
DESCRIPTION:
URL:https://dromokaiteio.gov.gr/event/%ce%b5%cf%86%ce%b7%ce%bc%ce%b5%cf%81%ce%b5%cf%8d%ce%b5%ce%b9-379/
LOCATION:Ψ.Ν.Α. Δρομοκαΐτειο\, Ιερά Οδός 343\, Χαϊδάρι\, Αττικής\, 12461\, Greece
CATEGORIES:Εφημερίες
END:VEVENT
BEGIN:VEVENT
DTSTART;VALUE=DATE:20241008
DTEND;VALUE=DATE:20241009
DTSTAMP:20260423T180341
CREATED:20240904T115816Z
LAST-MODIFIED:20241002T061658Z
UID:7759-1728345600-1728431999@dromokaiteio.gov.gr
SUMMARY:Εφημερεύει
DESCRIPTION:
URL:https://dromokaiteio.gov.gr/event/%ce%b5%cf%86%ce%b7%ce%bc%ce%b5%cf%81%ce%b5%cf%8d%ce%b5%ce%b9-380/
LOCATION:Ψ.Ν.Α. Δρομοκαΐτειο\, Ιερά Οδός 343\, Χαϊδάρι\, Αττικής\, 12461\, Greece
CATEGORIES:Εφημερίες
END:VEVENT
BEGIN:VEVENT
DTSTART;VALUE=DATE:20241011
DTEND;VALUE=DATE:20241012
DTSTAMP:20260423T180341
CREATED:20240904T115816Z
LAST-MODIFIED:20241002T062008Z
UID:7760-1728604800-1728691199@dromokaiteio.gov.gr
SUMMARY:Εφημερεύει
DESCRIPTION:
URL:https://dromokaiteio.gov.gr/event/%ce%b5%cf%86%ce%b7%ce%bc%ce%b5%cf%81%ce%b5%cf%8d%ce%b5%ce%b9-381/
LOCATION:Ψ.Ν.Α. Δρομοκαΐτειο\, Ιερά Οδός 343\, Χαϊδάρι\, Αττικής\, 12461\, Greece
CATEGORIES:Εφημερίες
END:VEVENT
BEGIN:VEVENT
DTSTART;VALUE=DATE:20241014
DTEND;VALUE=DATE:20241015
DTSTAMP:20260423T180341
CREATED:20240904T115817Z
LAST-MODIFIED:20241002T062029Z
UID:7761-1728864000-1728950399@dromokaiteio.gov.gr
SUMMARY:Εφημερεύει
DESCRIPTION:
URL:https://dromokaiteio.gov.gr/event/%ce%b5%cf%86%ce%b7%ce%bc%ce%b5%cf%81%ce%b5%cf%8d%ce%b5%ce%b9-382/
LOCATION:Ψ.Ν.Α. Δρομοκαΐτειο\, Ιερά Οδός 343\, Χαϊδάρι\, Αττικής\, 12461\, Greece
CATEGORIES:Εφημερίες
END:VEVENT
BEGIN:VEVENT
DTSTART;VALUE=DATE:20241018
DTEND;VALUE=DATE:20241019
DTSTAMP:20260423T180341
CREATED:20240904T115822Z
LAST-MODIFIED:20241002T062036Z
UID:7762-1729209600-1729295999@dromokaiteio.gov.gr
SUMMARY:Εφημερεύει
DESCRIPTION:
URL:https://dromokaiteio.gov.gr/event/%ce%b5%cf%86%ce%b7%ce%bc%ce%b5%cf%81%ce%b5%cf%8d%ce%b5%ce%b9-383/
LOCATION:Ψ.Ν.Α. Δρομοκαΐτειο\, Ιερά Οδός 343\, Χαϊδάρι\, Αττικής\, 12461\, Greece
CATEGORIES:Εφημερίες
END:VEVENT
BEGIN:VEVENT
DTSTART;VALUE=DATE:20241021
DTEND;VALUE=DATE:20241022
DTSTAMP:20260423T180341
CREATED:20240904T115823Z
LAST-MODIFIED:20241002T062131Z
UID:7763-1729468800-1729555199@dromokaiteio.gov.gr
SUMMARY:Εφημερεύει
DESCRIPTION:
URL:https://dromokaiteio.gov.gr/event/%ce%b5%cf%86%ce%b7%ce%bc%ce%b5%cf%81%ce%b5%cf%8d%ce%b5%ce%b9-384/
LOCATION:Ψ.Ν.Α. Δρομοκαΐτειο\, Ιερά Οδός 343\, Χαϊδάρι\, Αττικής\, 12461\, Greece
CATEGORIES:Εφημερίες
END:VEVENT
BEGIN:VEVENT
DTSTART;VALUE=DATE:20241024
DTEND;VALUE=DATE:20241025
DTSTAMP:20260423T180341
CREATED:20240904T115823Z
LAST-MODIFIED:20241002T062142Z
UID:7764-1729728000-1729814399@dromokaiteio.gov.gr
SUMMARY:Εφημερεύει
DESCRIPTION:
URL:https://dromokaiteio.gov.gr/event/%ce%b5%cf%86%ce%b7%ce%bc%ce%b5%cf%81%ce%b5%cf%8d%ce%b5%ce%b9-385/
LOCATION:Ψ.Ν.Α. Δρομοκαΐτειο\, Ιερά Οδός 343\, Χαϊδάρι\, Αττικής\, 12461\, Greece
CATEGORIES:Εφημερίες
END:VEVENT
BEGIN:VEVENT
DTSTART;VALUE=DATE:20241027
DTEND;VALUE=DATE:20241028
DTSTAMP:20260423T180341
CREATED:20240904T115824Z
LAST-MODIFIED:20241002T062208Z
UID:7765-1729987200-1730073599@dromokaiteio.gov.gr
SUMMARY:Εφημερεύει
DESCRIPTION:
URL:https://dromokaiteio.gov.gr/event/%ce%b5%cf%86%ce%b7%ce%bc%ce%b5%cf%81%ce%b5%cf%8d%ce%b5%ce%b9-386/
LOCATION:Ψ.Ν.Α. Δρομοκαΐτειο\, Ιερά Οδός 343\, Χαϊδάρι\, Αττικής\, 12461\, Greece
CATEGORIES:Εφημερίες
END:VEVENT
BEGIN:VEVENT
DTSTART;VALUE=DATE:20241030
DTEND;VALUE=DATE:20241031
DTSTAMP:20260423T180341
CREATED:20241002T062407Z
LAST-MODIFIED:20241002T062459Z
UID:7843-1730246400-1730332799@dromokaiteio.gov.gr
SUMMARY:Εφημερεύει
DESCRIPTION:
URL:https://dromokaiteio.gov.gr/event/%ce%b5%cf%86%ce%b7%ce%bc%ce%b5%cf%81%ce%b5%cf%8d%ce%b5%ce%b9-417/
LOCATION:Ψ.Ν.Α. Δρομοκαΐτειο\, Ιερά Οδός 343\, Χαϊδάρι\, Αττικής\, 12461\, Greece
CATEGORIES:Εφημερίες
END:VEVENT
END:VCALENDAR