BEGIN:VCALENDAR
VERSION:2.0
PRODID:-//Ψυχιατρικό Νοσοκομείο Αττικής «Δρομοκαΐτειο» - ECPv6.15.20//NONSGML v1.0//EN
CALSCALE:GREGORIAN
METHOD:PUBLISH
X-WR-CALNAME:Ψυχιατρικό Νοσοκομείο Αττικής «Δρομοκαΐτειο»
X-ORIGINAL-URL:https://dromokaiteio.gov.gr
X-WR-CALDESC:Events for Ψυχιατρικό Νοσοκομείο Αττικής «Δρομοκαΐτειο»
REFRESH-INTERVAL;VALUE=DURATION:PT1H
X-Robots-Tag:noindex
X-PUBLISHED-TTL:PT1H
BEGIN:VTIMEZONE
TZID:Europe/Helsinki
BEGIN:DAYLIGHT
TZOFFSETFROM:+0200
TZOFFSETTO:+0300
TZNAME:EEST
DTSTART:20230326T010000
END:DAYLIGHT
BEGIN:STANDARD
TZOFFSETFROM:+0300
TZOFFSETTO:+0200
TZNAME:EET
DTSTART:20231029T010000
END:STANDARD
BEGIN:DAYLIGHT
TZOFFSETFROM:+0200
TZOFFSETTO:+0300
TZNAME:EEST
DTSTART:20240331T010000
END:DAYLIGHT
BEGIN:STANDARD
TZOFFSETFROM:+0300
TZOFFSETTO:+0200
TZNAME:EET
DTSTART:20241027T010000
END:STANDARD
BEGIN:DAYLIGHT
TZOFFSETFROM:+0200
TZOFFSETTO:+0300
TZNAME:EEST
DTSTART:20250330T010000
END:DAYLIGHT
BEGIN:STANDARD
TZOFFSETFROM:+0300
TZOFFSETTO:+0200
TZNAME:EET
DTSTART:20251026T010000
END:STANDARD
END:VTIMEZONE
BEGIN:VEVENT
DTSTART;VALUE=DATE:20240802
DTEND;VALUE=DATE:20240803
DTSTAMP:20260423T150145
CREATED:20240520T115212Z
LAST-MODIFIED:20240520T115212Z
UID:7627-1722556800-1722643199@dromokaiteio.gov.gr
SUMMARY:Εφημερεύει
DESCRIPTION:
URL:https://dromokaiteio.gov.gr/event/%ce%b5%cf%86%ce%b7%ce%bc%ce%b5%cf%81%ce%b5%cf%8d%ce%b5%ce%b9-359/
LOCATION:Ψ.Ν.Α. Δρομοκαΐτειο\, Ιερά Οδός 343\, Χαϊδάρι\, Αττικής\, 12461\, Greece
CATEGORIES:Εφημερίες
END:VEVENT
BEGIN:VEVENT
DTSTART;VALUE=DATE:20240805
DTEND;VALUE=DATE:20240806
DTSTAMP:20260423T150145
CREATED:20240520T115222Z
LAST-MODIFIED:20240520T115222Z
UID:7628-1722816000-1722902399@dromokaiteio.gov.gr
SUMMARY:Εφημερεύει
DESCRIPTION:
URL:https://dromokaiteio.gov.gr/event/%ce%b5%cf%86%ce%b7%ce%bc%ce%b5%cf%81%ce%b5%cf%8d%ce%b5%ce%b9-360/
LOCATION:Ψ.Ν.Α. Δρομοκαΐτειο\, Ιερά Οδός 343\, Χαϊδάρι\, Αττικής\, 12461\, Greece
CATEGORIES:Εφημερίες
END:VEVENT
BEGIN:VEVENT
DTSTART;VALUE=DATE:20240808
DTEND;VALUE=DATE:20240809
DTSTAMP:20260423T150145
CREATED:20240520T115228Z
LAST-MODIFIED:20240520T115228Z
UID:7629-1723075200-1723161599@dromokaiteio.gov.gr
SUMMARY:Εφημερεύει
DESCRIPTION:
URL:https://dromokaiteio.gov.gr/event/%ce%b5%cf%86%ce%b7%ce%bc%ce%b5%cf%81%ce%b5%cf%8d%ce%b5%ce%b9-361/
LOCATION:Ψ.Ν.Α. Δρομοκαΐτειο\, Ιερά Οδός 343\, Χαϊδάρι\, Αττικής\, 12461\, Greece
CATEGORIES:Εφημερίες
END:VEVENT
BEGIN:VEVENT
DTSTART;VALUE=DATE:20240811
DTEND;VALUE=DATE:20240812
DTSTAMP:20260423T150145
CREATED:20240520T115229Z
LAST-MODIFIED:20240520T115229Z
UID:7630-1723334400-1723420799@dromokaiteio.gov.gr
SUMMARY:Εφημερεύει
DESCRIPTION:
URL:https://dromokaiteio.gov.gr/event/%ce%b5%cf%86%ce%b7%ce%bc%ce%b5%cf%81%ce%b5%cf%8d%ce%b5%ce%b9-362/
LOCATION:Ψ.Ν.Α. Δρομοκαΐτειο\, Ιερά Οδός 343\, Χαϊδάρι\, Αττικής\, 12461\, Greece
CATEGORIES:Εφημερίες
END:VEVENT
BEGIN:VEVENT
DTSTART;VALUE=DATE:20240815
DTEND;VALUE=DATE:20240816
DTSTAMP:20260423T150145
CREATED:20240520T115235Z
LAST-MODIFIED:20240520T115235Z
UID:7631-1723680000-1723766399@dromokaiteio.gov.gr
SUMMARY:Εφημερεύει
DESCRIPTION:
URL:https://dromokaiteio.gov.gr/event/%ce%b5%cf%86%ce%b7%ce%bc%ce%b5%cf%81%ce%b5%cf%8d%ce%b5%ce%b9-363/
LOCATION:Ψ.Ν.Α. Δρομοκαΐτειο\, Ιερά Οδός 343\, Χαϊδάρι\, Αττικής\, 12461\, Greece
CATEGORIES:Εφημερίες
END:VEVENT
BEGIN:VEVENT
DTSTART;VALUE=DATE:20240818
DTEND;VALUE=DATE:20240819
DTSTAMP:20260423T150145
CREATED:20240520T115235Z
LAST-MODIFIED:20240520T115235Z
UID:7632-1723939200-1724025599@dromokaiteio.gov.gr
SUMMARY:Εφημερεύει
DESCRIPTION:
URL:https://dromokaiteio.gov.gr/event/%ce%b5%cf%86%ce%b7%ce%bc%ce%b5%cf%81%ce%b5%cf%8d%ce%b5%ce%b9-364/
LOCATION:Ψ.Ν.Α. Δρομοκαΐτειο\, Ιερά Οδός 343\, Χαϊδάρι\, Αττικής\, 12461\, Greece
CATEGORIES:Εφημερίες
END:VEVENT
BEGIN:VEVENT
DTSTART;VALUE=DATE:20240821
DTEND;VALUE=DATE:20240822
DTSTAMP:20260423T150145
CREATED:20240520T115237Z
LAST-MODIFIED:20240520T115237Z
UID:7633-1724198400-1724284799@dromokaiteio.gov.gr
SUMMARY:Εφημερεύει
DESCRIPTION:
URL:https://dromokaiteio.gov.gr/event/%ce%b5%cf%86%ce%b7%ce%bc%ce%b5%cf%81%ce%b5%cf%8d%ce%b5%ce%b9-365/
LOCATION:Ψ.Ν.Α. Δρομοκαΐτειο\, Ιερά Οδός 343\, Χαϊδάρι\, Αττικής\, 12461\, Greece
CATEGORIES:Εφημερίες
END:VEVENT
BEGIN:VEVENT
DTSTART;VALUE=DATE:20240824
DTEND;VALUE=DATE:20240825
DTSTAMP:20260423T150145
CREATED:20240520T115237Z
LAST-MODIFIED:20240520T115237Z
UID:7634-1724457600-1724543999@dromokaiteio.gov.gr
SUMMARY:Εφημερεύει
DESCRIPTION:
URL:https://dromokaiteio.gov.gr/event/%ce%b5%cf%86%ce%b7%ce%bc%ce%b5%cf%81%ce%b5%cf%8d%ce%b5%ce%b9-366/
LOCATION:Ψ.Ν.Α. Δρομοκαΐτειο\, Ιερά Οδός 343\, Χαϊδάρι\, Αττικής\, 12461\, Greece
CATEGORIES:Εφημερίες
END:VEVENT
BEGIN:VEVENT
DTSTART;VALUE=DATE:20240827
DTEND;VALUE=DATE:20240828
DTSTAMP:20260423T150145
CREATED:20240520T115243Z
LAST-MODIFIED:20240520T115243Z
UID:7635-1724716800-1724803199@dromokaiteio.gov.gr
SUMMARY:Εφημερεύει
DESCRIPTION:
URL:https://dromokaiteio.gov.gr/event/%ce%b5%cf%86%ce%b7%ce%bc%ce%b5%cf%81%ce%b5%cf%8d%ce%b5%ce%b9-367/
LOCATION:Ψ.Ν.Α. Δρομοκαΐτειο\, Ιερά Οδός 343\, Χαϊδάρι\, Αττικής\, 12461\, Greece
CATEGORIES:Εφημερίες
END:VEVENT
BEGIN:VEVENT
DTSTART;VALUE=DATE:20240831
DTEND;VALUE=DATE:20240901
DTSTAMP:20260423T150145
CREATED:20240520T115249Z
LAST-MODIFIED:20240520T115249Z
UID:7636-1725062400-1725148799@dromokaiteio.gov.gr
SUMMARY:Εφημερεύει
DESCRIPTION:
URL:https://dromokaiteio.gov.gr/event/%ce%b5%cf%86%ce%b7%ce%bc%ce%b5%cf%81%ce%b5%cf%8d%ce%b5%ce%b9-368/
LOCATION:Ψ.Ν.Α. Δρομοκαΐτειο\, Ιερά Οδός 343\, Χαϊδάρι\, Αττικής\, 12461\, Greece
CATEGORIES:Εφημερίες
END:VEVENT
END:VCALENDAR