BEGIN:VCALENDAR
VERSION:2.0
PRODID:-//Ψυχιατρικό Νοσοκομείο Αττικής «Δρομοκαΐτειο» - ECPv6.15.20//NONSGML v1.0//EN
CALSCALE:GREGORIAN
METHOD:PUBLISH
X-ORIGINAL-URL:https://dromokaiteio.gov.gr
X-WR-CALDESC:Events for Ψυχιατρικό Νοσοκομείο Αττικής «Δρομοκαΐτειο»
REFRESH-INTERVAL;VALUE=DURATION:PT1H
X-Robots-Tag:noindex
X-PUBLISHED-TTL:PT1H
BEGIN:VTIMEZONE
TZID:Europe/Helsinki
BEGIN:DAYLIGHT
TZOFFSETFROM:+0200
TZOFFSETTO:+0300
TZNAME:EEST
DTSTART:20230326T010000
END:DAYLIGHT
BEGIN:STANDARD
TZOFFSETFROM:+0300
TZOFFSETTO:+0200
TZNAME:EET
DTSTART:20231029T010000
END:STANDARD
BEGIN:DAYLIGHT
TZOFFSETFROM:+0200
TZOFFSETTO:+0300
TZNAME:EEST
DTSTART:20240331T010000
END:DAYLIGHT
BEGIN:STANDARD
TZOFFSETFROM:+0300
TZOFFSETTO:+0200
TZNAME:EET
DTSTART:20241027T010000
END:STANDARD
BEGIN:DAYLIGHT
TZOFFSETFROM:+0200
TZOFFSETTO:+0300
TZNAME:EEST
DTSTART:20250330T010000
END:DAYLIGHT
BEGIN:STANDARD
TZOFFSETFROM:+0300
TZOFFSETTO:+0200
TZNAME:EET
DTSTART:20251026T010000
END:STANDARD
END:VTIMEZONE
BEGIN:VEVENT
DTSTART;VALUE=DATE:20240501
DTEND;VALUE=DATE:20240502
DTSTAMP:20260423T041912
CREATED:20240205T065807Z
LAST-MODIFIED:20240205T065807Z
UID:7393-1714521600-1714607999@dromokaiteio.gov.gr
SUMMARY:Εφημερεύει
DESCRIPTION:
URL:https://dromokaiteio.gov.gr/event/%ce%b5%cf%86%ce%b7%ce%bc%ce%b5%cf%81%ce%b5%cf%8d%ce%b5%ce%b9-330/
LOCATION:Ψ.Ν.Α. Δρομοκαΐτειο\, Ιερά Οδός 343\, Χαϊδάρι\, Αττικής\, 12461\, Greece
CATEGORIES:Εφημερίες
END:VEVENT
BEGIN:VEVENT
DTSTART;VALUE=DATE:20240504
DTEND;VALUE=DATE:20240505
DTSTAMP:20260423T041912
CREATED:20240205T065807Z
LAST-MODIFIED:20240205T065807Z
UID:7394-1714780800-1714867199@dromokaiteio.gov.gr
SUMMARY:Εφημερεύει
DESCRIPTION:
URL:https://dromokaiteio.gov.gr/event/%ce%b5%cf%86%ce%b7%ce%bc%ce%b5%cf%81%ce%b5%cf%8d%ce%b5%ce%b9-331/
LOCATION:Ψ.Ν.Α. Δρομοκαΐτειο\, Ιερά Οδός 343\, Χαϊδάρι\, Αττικής\, 12461\, Greece
CATEGORIES:Εφημερίες
END:VEVENT
BEGIN:VEVENT
DTSTART;VALUE=DATE:20240507
DTEND;VALUE=DATE:20240508
DTSTAMP:20260423T041912
CREATED:20240205T065823Z
LAST-MODIFIED:20240205T065823Z
UID:7395-1715040000-1715126399@dromokaiteio.gov.gr
SUMMARY:Εφημερεύει
DESCRIPTION:
URL:https://dromokaiteio.gov.gr/event/%ce%b5%cf%86%ce%b7%ce%bc%ce%b5%cf%81%ce%b5%cf%8d%ce%b5%ce%b9-332/
LOCATION:Ψ.Ν.Α. Δρομοκαΐτειο\, Ιερά Οδός 343\, Χαϊδάρι\, Αττικής\, 12461\, Greece
CATEGORIES:Εφημερίες
END:VEVENT
BEGIN:VEVENT
DTSTART;VALUE=DATE:20240511
DTEND;VALUE=DATE:20240512
DTSTAMP:20260423T041912
CREATED:20240205T065824Z
LAST-MODIFIED:20240205T065824Z
UID:7396-1715385600-1715471999@dromokaiteio.gov.gr
SUMMARY:Εφημερεύει
DESCRIPTION:
URL:https://dromokaiteio.gov.gr/event/%ce%b5%cf%86%ce%b7%ce%bc%ce%b5%cf%81%ce%b5%cf%8d%ce%b5%ce%b9-333/
LOCATION:Ψ.Ν.Α. Δρομοκαΐτειο\, Ιερά Οδός 343\, Χαϊδάρι\, Αττικής\, 12461\, Greece
CATEGORIES:Εφημερίες
END:VEVENT
BEGIN:VEVENT
DTSTART;VALUE=DATE:20240514
DTEND;VALUE=DATE:20240515
DTSTAMP:20260423T041912
CREATED:20240205T065824Z
LAST-MODIFIED:20240205T065824Z
UID:7397-1715644800-1715731199@dromokaiteio.gov.gr
SUMMARY:Εφημερεύει
DESCRIPTION:
URL:https://dromokaiteio.gov.gr/event/%ce%b5%cf%86%ce%b7%ce%bc%ce%b5%cf%81%ce%b5%cf%8d%ce%b5%ce%b9-334/
LOCATION:Ψ.Ν.Α. Δρομοκαΐτειο\, Ιερά Οδός 343\, Χαϊδάρι\, Αττικής\, 12461\, Greece
CATEGORIES:Εφημερίες
END:VEVENT
BEGIN:VEVENT
DTSTART;VALUE=DATE:20240517
DTEND;VALUE=DATE:20240518
DTSTAMP:20260423T041912
CREATED:20240205T065825Z
LAST-MODIFIED:20240205T065825Z
UID:7398-1715904000-1715990399@dromokaiteio.gov.gr
SUMMARY:Εφημερεύει
DESCRIPTION:
URL:https://dromokaiteio.gov.gr/event/%ce%b5%cf%86%ce%b7%ce%bc%ce%b5%cf%81%ce%b5%cf%8d%ce%b5%ce%b9-335/
LOCATION:Ψ.Ν.Α. Δρομοκαΐτειο\, Ιερά Οδός 343\, Χαϊδάρι\, Αττικής\, 12461\, Greece
CATEGORIES:Εφημερίες
END:VEVENT
BEGIN:VEVENT
DTSTART;VALUE=DATE:20240520
DTEND;VALUE=DATE:20240521
DTSTAMP:20260423T041912
CREATED:20240205T065825Z
LAST-MODIFIED:20240205T065825Z
UID:7399-1716163200-1716249599@dromokaiteio.gov.gr
SUMMARY:Εφημερεύει
DESCRIPTION:
URL:https://dromokaiteio.gov.gr/event/%ce%b5%cf%86%ce%b7%ce%bc%ce%b5%cf%81%ce%b5%cf%8d%ce%b5%ce%b9-336/
LOCATION:Ψ.Ν.Α. Δρομοκαΐτειο\, Ιερά Οδός 343\, Χαϊδάρι\, Αττικής\, 12461\, Greece
CATEGORIES:Εφημερίες
END:VEVENT
BEGIN:VEVENT
DTSTART;VALUE=DATE:20240523
DTEND;VALUE=DATE:20240524
DTSTAMP:20260423T041912
CREATED:20240205T065836Z
LAST-MODIFIED:20240205T065836Z
UID:7400-1716422400-1716508799@dromokaiteio.gov.gr
SUMMARY:Εφημερεύει
DESCRIPTION:
URL:https://dromokaiteio.gov.gr/event/%ce%b5%cf%86%ce%b7%ce%bc%ce%b5%cf%81%ce%b5%cf%8d%ce%b5%ce%b9-337/
LOCATION:Ψ.Ν.Α. Δρομοκαΐτειο\, Ιερά Οδός 343\, Χαϊδάρι\, Αττικής\, 12461\, Greece
CATEGORIES:Εφημερίες
END:VEVENT
BEGIN:VEVENT
DTSTART;VALUE=DATE:20240527
DTEND;VALUE=DATE:20240528
DTSTAMP:20260423T041912
CREATED:20240205T065836Z
LAST-MODIFIED:20240205T065836Z
UID:7401-1716768000-1716854399@dromokaiteio.gov.gr
SUMMARY:Εφημερεύει
DESCRIPTION:
URL:https://dromokaiteio.gov.gr/event/%ce%b5%cf%86%ce%b7%ce%bc%ce%b5%cf%81%ce%b5%cf%8d%ce%b5%ce%b9-338/
LOCATION:Ψ.Ν.Α. Δρομοκαΐτειο\, Ιερά Οδός 343\, Χαϊδάρι\, Αττικής\, 12461\, Greece
CATEGORIES:Εφημερίες
END:VEVENT
BEGIN:VEVENT
DTSTART;VALUE=DATE:20240530
DTEND;VALUE=DATE:20240531
DTSTAMP:20260423T041912
CREATED:20240205T065837Z
LAST-MODIFIED:20240205T065837Z
UID:7402-1717027200-1717113599@dromokaiteio.gov.gr
SUMMARY:Εφημερεύει
DESCRIPTION:
URL:https://dromokaiteio.gov.gr/event/%ce%b5%cf%86%ce%b7%ce%bc%ce%b5%cf%81%ce%b5%cf%8d%ce%b5%ce%b9-339/
LOCATION:Ψ.Ν.Α. Δρομοκαΐτειο\, Ιερά Οδός 343\, Χαϊδάρι\, Αττικής\, 12461\, Greece
CATEGORIES:Εφημερίες
END:VEVENT
END:VCALENDAR