BEGIN:VCALENDAR
VERSION:2.0
PRODID:-//Ψυχιατρικό Νοσοκομείο Αττικής «Δρομοκαΐτειο» - ECPv6.15.20//NONSGML v1.0//EN
CALSCALE:GREGORIAN
METHOD:PUBLISH
X-ORIGINAL-URL:https://dromokaiteio.gov.gr
X-WR-CALDESC:Events for Ψυχιατρικό Νοσοκομείο Αττικής «Δρομοκαΐτειο»
REFRESH-INTERVAL;VALUE=DURATION:PT1H
X-Robots-Tag:noindex
X-PUBLISHED-TTL:PT1H
BEGIN:VTIMEZONE
TZID:Europe/Helsinki
BEGIN:DAYLIGHT
TZOFFSETFROM:+0200
TZOFFSETTO:+0300
TZNAME:EEST
DTSTART:20240331T010000
END:DAYLIGHT
BEGIN:STANDARD
TZOFFSETFROM:+0300
TZOFFSETTO:+0200
TZNAME:EET
DTSTART:20241027T010000
END:STANDARD
BEGIN:DAYLIGHT
TZOFFSETFROM:+0200
TZOFFSETTO:+0300
TZNAME:EEST
DTSTART:20250330T010000
END:DAYLIGHT
BEGIN:STANDARD
TZOFFSETFROM:+0300
TZOFFSETTO:+0200
TZNAME:EET
DTSTART:20251026T010000
END:STANDARD
BEGIN:DAYLIGHT
TZOFFSETFROM:+0200
TZOFFSETTO:+0300
TZNAME:EEST
DTSTART:20260329T010000
END:DAYLIGHT
BEGIN:STANDARD
TZOFFSETFROM:+0300
TZOFFSETTO:+0200
TZNAME:EET
DTSTART:20261025T010000
END:STANDARD
END:VTIMEZONE
BEGIN:VEVENT
DTSTART;VALUE=DATE:20250501
DTEND;VALUE=DATE:20250502
DTSTAMP:20260421T043655
CREATED:20250204T123735Z
LAST-MODIFIED:20250204T123735Z
UID:8351-1746057600-1746143999@dromokaiteio.gov.gr
SUMMARY:Εφημερεύει
DESCRIPTION:
URL:https://dromokaiteio.gov.gr/event/%ce%b5%cf%86%ce%b7%ce%bc%ce%b5%cf%81%ce%b5%cf%8d%ce%b5%ce%b9-452/
LOCATION:Ψ.Ν.Α. Δρομοκαΐτειο\, Ιερά Οδός 343\, Χαϊδάρι\, Αττικής\, 12461\, Greece
CATEGORIES:Εφημερίες
END:VEVENT
BEGIN:VEVENT
DTSTART;VALUE=DATE:20250504
DTEND;VALUE=DATE:20250505
DTSTAMP:20260421T043655
CREATED:20250204T123735Z
LAST-MODIFIED:20250204T123735Z
UID:8352-1746316800-1746403199@dromokaiteio.gov.gr
SUMMARY:Εφημερεύει
DESCRIPTION:
URL:https://dromokaiteio.gov.gr/event/%ce%b5%cf%86%ce%b7%ce%bc%ce%b5%cf%81%ce%b5%cf%8d%ce%b5%ce%b9-453/
LOCATION:Ψ.Ν.Α. Δρομοκαΐτειο\, Ιερά Οδός 343\, Χαϊδάρι\, Αττικής\, 12461\, Greece
CATEGORIES:Εφημερίες
END:VEVENT
BEGIN:VEVENT
DTSTART;VALUE=DATE:20250507
DTEND;VALUE=DATE:20250508
DTSTAMP:20260421T043655
CREATED:20250204T123735Z
LAST-MODIFIED:20250204T123735Z
UID:8353-1746576000-1746662399@dromokaiteio.gov.gr
SUMMARY:Εφημερεύει
DESCRIPTION:
URL:https://dromokaiteio.gov.gr/event/%ce%b5%cf%86%ce%b7%ce%bc%ce%b5%cf%81%ce%b5%cf%8d%ce%b5%ce%b9-454/
LOCATION:Ψ.Ν.Α. Δρομοκαΐτειο\, Ιερά Οδός 343\, Χαϊδάρι\, Αττικής\, 12461\, Greece
CATEGORIES:Εφημερίες
END:VEVENT
BEGIN:VEVENT
DTSTART;VALUE=DATE:20250510
DTEND;VALUE=DATE:20250511
DTSTAMP:20260421T043655
CREATED:20250204T123740Z
LAST-MODIFIED:20250204T123740Z
UID:8354-1746835200-1746921599@dromokaiteio.gov.gr
SUMMARY:Εφημερεύει
DESCRIPTION:
URL:https://dromokaiteio.gov.gr/event/%ce%b5%cf%86%ce%b7%ce%bc%ce%b5%cf%81%ce%b5%cf%8d%ce%b5%ce%b9-455/
LOCATION:Ψ.Ν.Α. Δρομοκαΐτειο\, Ιερά Οδός 343\, Χαϊδάρι\, Αττικής\, 12461\, Greece
CATEGORIES:Εφημερίες
END:VEVENT
BEGIN:VEVENT
DTSTART;VALUE=DATE:20250514
DTEND;VALUE=DATE:20250515
DTSTAMP:20260421T043655
CREATED:20250204T123740Z
LAST-MODIFIED:20250204T123740Z
UID:8355-1747180800-1747267199@dromokaiteio.gov.gr
SUMMARY:Εφημερεύει
DESCRIPTION:
URL:https://dromokaiteio.gov.gr/event/%ce%b5%cf%86%ce%b7%ce%bc%ce%b5%cf%81%ce%b5%cf%8d%ce%b5%ce%b9-456/
LOCATION:Ψ.Ν.Α. Δρομοκαΐτειο\, Ιερά Οδός 343\, Χαϊδάρι\, Αττικής\, 12461\, Greece
CATEGORIES:Εφημερίες
END:VEVENT
BEGIN:VEVENT
DTSTART;VALUE=DATE:20250517
DTEND;VALUE=DATE:20250518
DTSTAMP:20260421T043655
CREATED:20250204T123741Z
LAST-MODIFIED:20250204T123741Z
UID:8356-1747440000-1747526399@dromokaiteio.gov.gr
SUMMARY:Εφημερεύει
DESCRIPTION:
URL:https://dromokaiteio.gov.gr/event/%ce%b5%cf%86%ce%b7%ce%bc%ce%b5%cf%81%ce%b5%cf%8d%ce%b5%ce%b9-457/
LOCATION:Ψ.Ν.Α. Δρομοκαΐτειο\, Ιερά Οδός 343\, Χαϊδάρι\, Αττικής\, 12461\, Greece
CATEGORIES:Εφημερίες
END:VEVENT
BEGIN:VEVENT
DTSTART;VALUE=DATE:20250520
DTEND;VALUE=DATE:20250521
DTSTAMP:20260421T043655
CREATED:20250204T123741Z
LAST-MODIFIED:20250204T123741Z
UID:8357-1747699200-1747785599@dromokaiteio.gov.gr
SUMMARY:Εφημερεύει
DESCRIPTION:
URL:https://dromokaiteio.gov.gr/event/%ce%b5%cf%86%ce%b7%ce%bc%ce%b5%cf%81%ce%b5%cf%8d%ce%b5%ce%b9-458/
LOCATION:Ψ.Ν.Α. Δρομοκαΐτειο\, Ιερά Οδός 343\, Χαϊδάρι\, Αττικής\, 12461\, Greece
CATEGORIES:Εφημερίες
END:VEVENT
BEGIN:VEVENT
DTSTART;VALUE=DATE:20250523
DTEND;VALUE=DATE:20250524
DTSTAMP:20260421T043655
CREATED:20250204T123741Z
LAST-MODIFIED:20250204T123741Z
UID:8358-1747958400-1748044799@dromokaiteio.gov.gr
SUMMARY:Εφημερεύει
DESCRIPTION:
URL:https://dromokaiteio.gov.gr/event/%ce%b5%cf%86%ce%b7%ce%bc%ce%b5%cf%81%ce%b5%cf%8d%ce%b5%ce%b9-459/
LOCATION:Ψ.Ν.Α. Δρομοκαΐτειο\, Ιερά Οδός 343\, Χαϊδάρι\, Αττικής\, 12461\, Greece
CATEGORIES:Εφημερίες
END:VEVENT
BEGIN:VEVENT
DTSTART;VALUE=DATE:20250526
DTEND;VALUE=DATE:20250527
DTSTAMP:20260421T043655
CREATED:20250204T123746Z
LAST-MODIFIED:20250204T123746Z
UID:8359-1748217600-1748303999@dromokaiteio.gov.gr
SUMMARY:Εφημερεύει
DESCRIPTION:
URL:https://dromokaiteio.gov.gr/event/%ce%b5%cf%86%ce%b7%ce%bc%ce%b5%cf%81%ce%b5%cf%8d%ce%b5%ce%b9-460/
LOCATION:Ψ.Ν.Α. Δρομοκαΐτειο\, Ιερά Οδός 343\, Χαϊδάρι\, Αττικής\, 12461\, Greece
CATEGORIES:Εφημερίες
END:VEVENT
BEGIN:VEVENT
DTSTART;VALUE=DATE:20250530
DTEND;VALUE=DATE:20250531
DTSTAMP:20260421T043655
CREATED:20250204T123747Z
LAST-MODIFIED:20250204T123747Z
UID:8360-1748563200-1748649599@dromokaiteio.gov.gr
SUMMARY:Εφημερεύει
DESCRIPTION:
URL:https://dromokaiteio.gov.gr/event/%ce%b5%cf%86%ce%b7%ce%bc%ce%b5%cf%81%ce%b5%cf%8d%ce%b5%ce%b9-461/
LOCATION:Ψ.Ν.Α. Δρομοκαΐτειο\, Ιερά Οδός 343\, Χαϊδάρι\, Αττικής\, 12461\, Greece
CATEGORIES:Εφημερίες
END:VEVENT
END:VCALENDAR